BEGIN:VCALENDAR
VERSION:2.0
PRODID:-//https://calenda-formation.labocleo.org
X-WR-CALNAME:Calenda
X-WR-TIMEZONE:Europe/Paris
CALSCALE:GREGORIAN
X-WR-CALDESC:O calendário de letras e de ciências sociais e humanas
METHOD:PUBLISH
BEGIN:VEVENT
DTSTART;VALUE=DATE:20140417
DTEND;VALUE=DATE:20140418
UID:282553-20140417@calenda.revues.org
SUMMARY:Corps\, amours et parenté
URL:https://calenda-formation.labocleo.org/282553
DESCRIPTION:Relations amoureuses\, sexualité\, inscription dans la parenté : ces journées aborderont sous l’angle du genre l’adolescence et la jeunesse\, entre la sortie de l’enfance et l’accès au statut d'adulte. À travers une approche comparative conjuguant la so… @plus_info https://calenda-formation.labocleo.org/282553
LOCATION:Marselha
END:VEVENT
BEGIN:VEVENT
DTSTART;VALUE=DATE:20140418
DTEND;VALUE=DATE:20140419
UID:282553-20140418@calenda.revues.org
SUMMARY:Corps\, amours et parenté
URL:https://calenda-formation.labocleo.org/282553
DESCRIPTION:Relations amoureuses\, sexualité\, inscription dans la parenté : ces journées aborderont sous l’angle du genre l’adolescence et la jeunesse\, entre la sortie de l’enfance et l’accès au statut d'adulte. À travers une approche comparative conjuguant la so… @plus_info https://calenda-formation.labocleo.org/282553
LOCATION:Marselha
END:VEVENT
END:VCALENDAR
