BEGIN:VCALENDAR
VERSION:2.0
PRODID:-//https://calenda-formation.labocleo.org
X-WR-CALNAME:Calenda
X-WR-TIMEZONE:Europe/Paris
CALSCALE:GREGORIAN
X-WR-CALDESC:O calendário de letras e de ciências sociais e humanas
METHOD:PUBLISH
BEGIN:VEVENT
DTSTART;VALUE=DATE:20140612
DTEND;VALUE=DATE:20140613
UID:282574-20140612@calenda.revues.org
SUMMARY:Les critiques du droit international des droits de l'homme
URL:https://calenda-formation.labocleo.org/282574
DESCRIPTION:Plus de soixante ans après les premiers textes internationaux adoptés en matière de protection des droits de l’homme et alors qu’aujourd’hui\, les instruments se sont démultipliés et les procédures internationales se sont étoffées\, il est fondamental … @plus_info https://calenda-formation.labocleo.org/282574
LOCATION:Aix-en-Provence
END:VEVENT
BEGIN:VEVENT
DTSTART;VALUE=DATE:20140613
DTEND;VALUE=DATE:20140614
UID:282574-20140613@calenda.revues.org
SUMMARY:Les critiques du droit international des droits de l'homme
URL:https://calenda-formation.labocleo.org/282574
DESCRIPTION:Plus de soixante ans après les premiers textes internationaux adoptés en matière de protection des droits de l’homme et alors qu’aujourd’hui\, les instruments se sont démultipliés et les procédures internationales se sont étoffées\, il est fondamental … @plus_info https://calenda-formation.labocleo.org/282574
LOCATION:Aix-en-Provence
END:VEVENT
END:VCALENDAR
