BEGIN:VCALENDAR
VERSION:2.0
PRODID:-//https://calenda-formation.labocleo.org
X-WR-CALNAME:Calenda
X-WR-TIMEZONE:Europe/Paris
CALSCALE:GREGORIAN
X-WR-CALDESC:The calendar for arts, humanities and social sciences
METHOD:PUBLISH
BEGIN:VEVENT
DTSTART;VALUE=DATE:20140520
DTEND;VALUE=DATE:20140521
UID:282716-20140520@calenda.revues.org
SUMMARY:The Golden Age. Medias\, memoires and nostalgias
URL:https://calenda-formation.labocleo.org/282716
DESCRIPTION:Journée d'études co-organisée par le « French Media Research Group » (Newcastle University)\, le CHCSC (université Versailles Saint-Quentin en Yvelines) et le GRIPIC (Celsa Paris-Sorbonne) qui se tiendra le vendredi 12 septembre 2014 à la Maison de la… @plus_info https://calenda-formation.labocleo.org/282716
LOCATION:Paris
END:VEVENT
END:VCALENDAR
