BEGIN:VCALENDAR
VERSION:2.0
PRODID:-//https://calenda-formation.labocleo.org
X-WR-CALNAME:Calenda
X-WR-TIMEZONE:Europe/Paris
CALSCALE:GREGORIAN
X-WR-CALDESC:Le calendrier des lettres et sciences humaines et sociales
METHOD:PUBLISH
BEGIN:VEVENT
DTSTART;VALUE=DATE:20140430
DTEND;VALUE=DATE:20140501
UID:282727-20140430@calenda.revues.org
SUMMARY:Les sexualités et la mondialisation
URL:https://calenda-formation.labocleo.org/282727
DESCRIPTION:La question du sexe et de la sexualité a toujours été présente\, bien qu’elle ait été réprimée ou autorisée suivant les époques. En tant que phénomène d’accélération\, la mondialisation a multiplié les débats sur la question sexuelle et rendu visibles … Más informaciones https://calenda-formation.labocleo.org/282727
LOCATION:Schœlcher
END:VEVENT
END:VCALENDAR
