BEGIN:VCALENDAR
VERSION:2.0
PRODID:-//https://calenda-formation.labocleo.org
X-WR-CALNAME:Calenda
X-WR-TIMEZONE:Europe/Paris
CALSCALE:GREGORIAN
X-WR-CALDESC:The calendar for arts, humanities and social sciences
METHOD:PUBLISH
BEGIN:VEVENT
DTSTART;VALUE=DATE:20140425
DTEND;VALUE=DATE:20140426
UID:282742-20140425@calenda.revues.org
SUMMARY:Managerial innovations: Stakes and Prospects
URL:https://calenda-formation.labocleo.org/282742
DESCRIPTION:Innovation is at the heart of European policies\, particularly since the Lisbon process. Then the European Union tried to strengthen its international competitiveness by setting up a “Europe of knowledge”. Innovation has become an imperative and the g… @plus_info https://calenda-formation.labocleo.org/282742
LOCATION:Sofia
END:VEVENT
END:VCALENDAR
