BEGIN:VCALENDAR
VERSION:2.0
PRODID:-//https://calenda-formation.labocleo.org
X-WR-CALNAME:Calenda
X-WR-TIMEZONE:Europe/Paris
CALSCALE:GREGORIAN
X-WR-CALDESC:The calendar for arts, humanities and social sciences
METHOD:PUBLISH
BEGIN:VEVENT
DTSTART;VALUE=DATE:20140701
DTEND;VALUE=DATE:20140702
UID:282785-20140701@calenda.revues.org
SUMMARY:Fabula agitur! Theatrical and artistic practices\, oral transmission and the learning of languages and culture in Antiquity
URL:https://calenda-formation.labocleo.org/282785
DESCRIPTION:Les spécialistes de didactique des langues se sont beaucoup intéressés\, ces dernières années\, à l'apport que pouvaient constituer les pratiques théâtrales et\, plus généralement\, artistiques\, dans l’apprentissage des langues vivantes. Ce colloque se p… @plus_info https://calenda-formation.labocleo.org/282785
LOCATION:Grenoble
END:VEVENT
END:VCALENDAR
