BEGIN:VCALENDAR
VERSION:2.0
PRODID:-//https://calenda-formation.labocleo.org
X-WR-CALNAME:Calenda
X-WR-TIMEZONE:Europe/Paris
CALSCALE:GREGORIAN
X-WR-CALDESC:Le calendrier des lettres et sciences humaines et sociales
METHOD:PUBLISH
BEGIN:VEVENT
DTSTART;VALUE=DATE:20140326
DTEND;VALUE=DATE:20140327
UID:283037-20140326@calenda.revues.org
SUMMARY:Moduler la contrainte\, adapter le traitement
URL:https://calenda-formation.labocleo.org/283037
DESCRIPTION:Les travaux sur les institutions\, qu’elles soient pénales\, administratives\, médicales ou encore sociales\, ont tendance à opposer de façon binaire les « enfermés » et les « enfermants » ou bien les « professionnels » et les « usagers». Nous souhaitons… Más informaciones https://calenda-formation.labocleo.org/283037
LOCATION:París
END:VEVENT
END:VCALENDAR
