BEGIN:VCALENDAR
VERSION:2.0
PRODID:-//https://calenda-formation.labocleo.org
X-WR-CALNAME:Calenda
X-WR-TIMEZONE:Europe/Paris
CALSCALE:GREGORIAN
X-WR-CALDESC:The calendar for arts, humanities and social sciences
METHOD:PUBLISH
BEGIN:VEVENT
DTSTART;VALUE=DATE:20140515
DTEND;VALUE=DATE:20140516
UID:283267-20140515@calenda.revues.org
SUMMARY:Knowledge and teaching institutions in the Arab-Mediterranean space
URL:https://calenda-formation.labocleo.org/283267
DESCRIPTION:La circulation des savoirs a généré\, à partir de la citadelle punique\, qu’est Carthage\, un enrichissement civilisationnel continu qui s’est répandu en symbiose\, à travers le temps\, non seulement tout au long du littoral sud de la Méditerranée\, mais a… @plus_info https://calenda-formation.labocleo.org/283267
LOCATION:Manouba
END:VEVENT
END:VCALENDAR
