BEGIN:VCALENDAR
VERSION:2.0
PRODID:-//https://calenda-formation.labocleo.org
X-WR-CALNAME:Calenda
X-WR-TIMEZONE:Europe/Paris
CALSCALE:GREGORIAN
X-WR-CALDESC:The calendar for arts, humanities and social sciences
METHOD:PUBLISH
BEGIN:VEVENT
DTSTART;VALUE=DATE:20140410
DTEND;VALUE=DATE:20140411
UID:283424-20140410@calenda.revues.org
SUMMARY:Europeanisation as an object and category for analysis in the historical and social sciences
URL:https://calenda-formation.labocleo.org/283424
DESCRIPTION:Colloque organisé par l'Institu historique allemand en coopération avec « Saisir l’Europe »\, le CIERA et le LabEx « Écrire une histoire nouvelle de l’Europe »\, avec le soutien financier de l’Université franco-allemande. … @plus_info https://calenda-formation.labocleo.org/283424
LOCATION:Paris
END:VEVENT
BEGIN:VEVENT
DTSTART;VALUE=DATE:20140411
DTEND;VALUE=DATE:20140412
UID:283424-20140411@calenda.revues.org
SUMMARY:Europeanisation as an object and category for analysis in the historical and social sciences
URL:https://calenda-formation.labocleo.org/283424
DESCRIPTION:Colloque organisé par l'Institu historique allemand en coopération avec « Saisir l’Europe »\, le CIERA et le LabEx « Écrire une histoire nouvelle de l’Europe »\, avec le soutien financier de l’Université franco-allemande. … @plus_info https://calenda-formation.labocleo.org/283424
LOCATION:Paris
END:VEVENT
END:VCALENDAR
