BEGIN:VCALENDAR
VERSION:2.0
PRODID:-//https://calenda-formation.labocleo.org
X-WR-CALNAME:Calenda
X-WR-TIMEZONE:Europe/Paris
CALSCALE:GREGORIAN
X-WR-CALDESC:Le calendrier des lettres et sciences humaines et sociales
METHOD:PUBLISH
BEGIN:VEVENT
DTSTART;VALUE=DATE:20140507
DTEND;VALUE=DATE:20140508
UID:283714-20140507@calenda.revues.org
SUMMARY:Le Directoire et la loi : la refondation de la République
URL:https://calenda-formation.labocleo.org/283714
DESCRIPTION:Mené à bien\, le projet ANR « Revloi » a permis de numériser tous les décrets et toutes les lois des trois premières assemblées révolutionnaires (1789-1795). Durant trois ans\, au sein du séminaire de l’IHRF\, la réflexion s’est portée sur les textes de… Weitere Informationen https://calenda-formation.labocleo.org/283714
LOCATION:Paris\, Pierrefitte-sur-Seine
END:VEVENT
BEGIN:VEVENT
DTSTART;VALUE=DATE:20140514
DTEND;VALUE=DATE:20140515
UID:283714-20140514@calenda.revues.org
SUMMARY:Le Directoire et la loi : la refondation de la République
URL:https://calenda-formation.labocleo.org/283714
DESCRIPTION:Mené à bien\, le projet ANR « Revloi » a permis de numériser tous les décrets et toutes les lois des trois premières assemblées révolutionnaires (1789-1795). Durant trois ans\, au sein du séminaire de l’IHRF\, la réflexion s’est portée sur les textes de… Weitere Informationen https://calenda-formation.labocleo.org/283714
LOCATION:Paris\, Pierrefitte-sur-Seine
END:VEVENT
BEGIN:VEVENT
DTSTART;VALUE=DATE:20140521
DTEND;VALUE=DATE:20140522
UID:283714-20140521@calenda.revues.org
SUMMARY:Le Directoire et la loi : la refondation de la République
URL:https://calenda-formation.labocleo.org/283714
DESCRIPTION:Mené à bien\, le projet ANR « Revloi » a permis de numériser tous les décrets et toutes les lois des trois premières assemblées révolutionnaires (1789-1795). Durant trois ans\, au sein du séminaire de l’IHRF\, la réflexion s’est portée sur les textes de… Weitere Informationen https://calenda-formation.labocleo.org/283714
LOCATION:Paris\, Pierrefitte-sur-Seine
END:VEVENT
BEGIN:VEVENT
DTSTART;VALUE=DATE:20140528
DTEND;VALUE=DATE:20140529
UID:283714-20140528@calenda.revues.org
SUMMARY:Le Directoire et la loi : la refondation de la République
URL:https://calenda-formation.labocleo.org/283714
DESCRIPTION:Mené à bien\, le projet ANR « Revloi » a permis de numériser tous les décrets et toutes les lois des trois premières assemblées révolutionnaires (1789-1795). Durant trois ans\, au sein du séminaire de l’IHRF\, la réflexion s’est portée sur les textes de… Weitere Informationen https://calenda-formation.labocleo.org/283714
LOCATION:Paris\, Pierrefitte-sur-Seine
END:VEVENT
END:VCALENDAR
