BEGIN:VCALENDAR
VERSION:2.0
PRODID:-//https://calenda-formation.labocleo.org
X-WR-CALNAME:Calenda
X-WR-TIMEZONE:Europe/Paris
CALSCALE:GREGORIAN
X-WR-CALDESC:The calendar for arts, humanities and social sciences
METHOD:PUBLISH
BEGIN:VEVENT
DTSTART;VALUE=DATE:20140410
DTEND;VALUE=DATE:20140411
UID:283907-20140410@calenda.revues.org
SUMMARY:E-research in the humanities and social sciences: advanced or limited? 
URL:https://calenda-formation.labocleo.org/283907
DESCRIPTION:Cette année\, la journée d'étude des doctorants de l'ED180 - sciences humaines et sociales de l'université Paris Descartes portera sur l'« e-recherche ». Cette journée d’étude vise à interroger notre réflexivité face à la production de la connaissance… @plus_info https://calenda-formation.labocleo.org/283907
LOCATION:Paris
END:VEVENT
END:VCALENDAR
