BEGIN:VCALENDAR
VERSION:2.0
PRODID:-//https://calenda-formation.labocleo.org
X-WR-CALNAME:Calenda
X-WR-TIMEZONE:Europe/Paris
CALSCALE:GREGORIAN
X-WR-CALDESC:The calendar for arts, humanities and social sciences
METHOD:PUBLISH
BEGIN:VEVENT
DTSTART;VALUE=DATE:20140615
DTEND;VALUE=DATE:20140616
UID:283938-20140615@calenda.revues.org
SUMMARY:Students and popular music
URL:https://calenda-formation.labocleo.org/283938
DESCRIPTION:L’objet de cette rencontre d’étudiants est de créer un espace ouvert d’échanges\, de discussions et de découvertes autour des « popular music » organisée par et pour les étudiants provenant d’institutions et d’horizons disciplinaires différents. Elle … @plus_info https://calenda-formation.labocleo.org/283938
LOCATION:Paris
END:VEVENT
END:VCALENDAR
