BEGIN:VCALENDAR
VERSION:2.0
PRODID:-//https://calenda-formation.labocleo.org
X-WR-CALNAME:Calenda
X-WR-TIMEZONE:Europe/Paris
CALSCALE:GREGORIAN
X-WR-CALDESC:The calendar for arts, humanities and social sciences
METHOD:PUBLISH
BEGIN:VEVENT
DTSTART;VALUE=DATE:20140430
DTEND;VALUE=DATE:20140501
UID:284413-20140430@calenda.revues.org
SUMMARY:Current research methods in ancient linguistics
URL:https://calenda-formation.labocleo.org/284413
DESCRIPTION:Ce workshop de doctorants\, organisé au sein du laboratoire lyonnais HiSoMA\, est consacré aux méthodes de la recherche en linguistique ancienne. Cette journée sera l’occasion de réunir des doctorants (et jeunes docteurs) de différents laboratoires fra… @plus_info https://calenda-formation.labocleo.org/284413
LOCATION:Lyon
END:VEVENT
END:VCALENDAR
