BEGIN:VCALENDAR
VERSION:2.0
PRODID:-//https://calenda-formation.labocleo.org
X-WR-CALNAME:Calenda
X-WR-TIMEZONE:Europe/Paris
CALSCALE:GREGORIAN
X-WR-CALDESC:Le calendrier des lettres et sciences humaines et sociales
METHOD:PUBLISH
BEGIN:VEVENT
DTSTART;VALUE=DATE:20140507
DTEND;VALUE=DATE:20140508
UID:284605-20140507@calenda.revues.org
SUMMARY:Poste de professeur des universités en histoire 
URL:https://calenda-formation.labocleo.org/284605
DESCRIPTION:Ce poste a pour objet de renforcer le développement international du Centre d’histoire de sciences po. Les travaux du Centre d’histoire de sciences po se déploient au-delà de la  France et  des  pays  limitrophes\,  pour  concerner  d’autres  grandes … Más informaciones https://calenda-formation.labocleo.org/284605
LOCATION:París
END:VEVENT
END:VCALENDAR
