BEGIN:VCALENDAR
VERSION:2.0
PRODID:-//https://calenda-formation.labocleo.org
X-WR-CALNAME:Calenda
X-WR-TIMEZONE:Europe/Paris
CALSCALE:GREGORIAN
X-WR-CALDESC:The calendar for arts, humanities and social sciences
METHOD:PUBLISH
BEGIN:VEVENT
DTSTART;VALUE=DATE:20140526
DTEND;VALUE=DATE:20140527
UID:284614-20140526@calenda.revues.org
SUMMARY:Comparative approaches to architecture and the humanities
URL:https://calenda-formation.labocleo.org/284614
DESCRIPTION:Le colloque international « Rencontres à la croisée de l’architecture et des sciences humaines » se tiendra les 26 et 27 mai 2014 à l'université Libre de Bruxelles. Ce colloque vise à poursuivre et amplifier les réflexions entamées au sein du laborat… @plus_info https://calenda-formation.labocleo.org/284614
LOCATION:Brussels
END:VEVENT
BEGIN:VEVENT
DTSTART;VALUE=DATE:20140527
DTEND;VALUE=DATE:20140528
UID:284614-20140527@calenda.revues.org
SUMMARY:Comparative approaches to architecture and the humanities
URL:https://calenda-formation.labocleo.org/284614
DESCRIPTION:Le colloque international « Rencontres à la croisée de l’architecture et des sciences humaines » se tiendra les 26 et 27 mai 2014 à l'université Libre de Bruxelles. Ce colloque vise à poursuivre et amplifier les réflexions entamées au sein du laborat… @plus_info https://calenda-formation.labocleo.org/284614
LOCATION:Brussels
END:VEVENT
END:VCALENDAR
