BEGIN:VCALENDAR
VERSION:2.0
PRODID:-//https://calenda-formation.labocleo.org
X-WR-CALNAME:Calenda
X-WR-TIMEZONE:Europe/Paris
CALSCALE:GREGORIAN
X-WR-CALDESC:The calendar for arts, humanities and social sciences
METHOD:PUBLISH
BEGIN:VEVENT
DTSTART;VALUE=DATE:20140524
DTEND;VALUE=DATE:20140525
UID:285213-20140524@calenda.revues.org
SUMMARY:Gender
URL:https://calenda-formation.labocleo.org/285213
DESCRIPTION:Les différences sexuées ordonnées par une société légitiment une division du travail et des positions de pouvoir\, des hiérarchies et des modes de relations normées qui seraient censés relever d'une nature. Du trouble survient quand cet ordonnancement… @plus_info https://calenda-formation.labocleo.org/285213
LOCATION:Paris
END:VEVENT
END:VCALENDAR
