BEGIN:VCALENDAR
VERSION:2.0
PRODID:-//https://calenda-formation.labocleo.org
X-WR-CALNAME:Calenda
X-WR-TIMEZONE:Europe/Paris
CALSCALE:GREGORIAN
X-WR-CALDESC:Le calendrier des lettres et sciences humaines et sociales
METHOD:PUBLISH
BEGIN:VEVENT
DTSTART;VALUE=DATE:20140519
DTEND;VALUE=DATE:20140520
UID:285302-20140519@calenda.revues.org
SUMMARY:Constituer des corpus pour la recherche contemporaine : de l’archivage du web à son analyse
URL:https://calenda-formation.labocleo.org/285302
DESCRIPTION:Pendant cinq jours\, la BnF accueille les experts mondiaux de l’archivage du web\, en collaboration avec l’Institut national de l’audiovisuel (INA) et l’Internet Memory Foundation (IMF). La semaine s’ouvre avec une conférence (lundi 19 mai) destinée au… Weitere Informationen https://calenda-formation.labocleo.org/285302
LOCATION:Paris
END:VEVENT
END:VCALENDAR
