BEGIN:VCALENDAR
VERSION:2.0
PRODID:-//https://calenda-formation.labocleo.org
X-WR-CALNAME:Calenda
X-WR-TIMEZONE:Europe/Paris
CALSCALE:GREGORIAN
X-WR-CALDESC:Le calendrier des lettres et sciences humaines et sociales
METHOD:PUBLISH
BEGIN:VEVENT
DTSTART;VALUE=DATE:20140521
DTEND;VALUE=DATE:20140522
UID:285308-20140521@calenda.revues.org
SUMMARY:Le Débarquement : de l'événement à l'épopée
URL:https://calenda-formation.labocleo.org/285308
DESCRIPTION:À la veille des commémorations du 70e anniversaire du Débarquement de Normandie\, ce colloque international analyse les différents processus qui ont conduit à faire de cette opération militaire un événement majeur dans notre mémoire collective. Reveni… @plus_info https://calenda-formation.labocleo.org/285308
LOCATION:Caen
END:VEVENT
BEGIN:VEVENT
DTSTART;VALUE=DATE:20140522
DTEND;VALUE=DATE:20140523
UID:285308-20140522@calenda.revues.org
SUMMARY:Le Débarquement : de l'événement à l'épopée
URL:https://calenda-formation.labocleo.org/285308
DESCRIPTION:À la veille des commémorations du 70e anniversaire du Débarquement de Normandie\, ce colloque international analyse les différents processus qui ont conduit à faire de cette opération militaire un événement majeur dans notre mémoire collective. Reveni… @plus_info https://calenda-formation.labocleo.org/285308
LOCATION:Caen
END:VEVENT
BEGIN:VEVENT
DTSTART;VALUE=DATE:20140523
DTEND;VALUE=DATE:20140524
UID:285308-20140523@calenda.revues.org
SUMMARY:Le Débarquement : de l'événement à l'épopée
URL:https://calenda-formation.labocleo.org/285308
DESCRIPTION:À la veille des commémorations du 70e anniversaire du Débarquement de Normandie\, ce colloque international analyse les différents processus qui ont conduit à faire de cette opération militaire un événement majeur dans notre mémoire collective. Reveni… @plus_info https://calenda-formation.labocleo.org/285308
LOCATION:Caen
END:VEVENT
END:VCALENDAR
