BEGIN:VCALENDAR
VERSION:2.0
PRODID:-//https://calenda-formation.labocleo.org
X-WR-CALNAME:Calenda
X-WR-TIMEZONE:Europe/Paris
CALSCALE:GREGORIAN
X-WR-CALDESC:The calendar for arts, humanities and social sciences
METHOD:PUBLISH
BEGIN:VEVENT
DTSTART;VALUE=DATE:20140523
DTEND;VALUE=DATE:20140524
UID:285468-20140523@calenda.revues.org
SUMMARY:European regions and the crisis
URL:https://calenda-formation.labocleo.org/285468
DESCRIPTION:À un moment de crispation politique et sociale forte en Bretagne\, ce séminaire entend construire un espace d’échanges entre universitaires et praticiens de l’action publique (élus\, techniciens ou experts) pour comparer et débattre des stratégies régi… @plus_info https://calenda-formation.labocleo.org/285468
LOCATION:Rennes
END:VEVENT
END:VCALENDAR
