BEGIN:VCALENDAR
VERSION:2.0
PRODID:-//https://calenda-formation.labocleo.org
X-WR-CALNAME:Calenda
X-WR-TIMEZONE:Europe/Paris
CALSCALE:GREGORIAN
X-WR-CALDESC:The calendar for arts, humanities and social sciences
METHOD:PUBLISH
BEGIN:VEVENT
DTSTART;VALUE=DATE:20140701
DTEND;VALUE=DATE:20140702
UID:285582-20140701@calenda.revues.org
SUMMARY:The body of emotions
URL:https://calenda-formation.labocleo.org/285582
DESCRIPTION:En prenant pour point de départ la métaphore du corps\, ce colloque veut faire émerger de nouvelles possibilités d’étude de la performativité historique des émotions\, comprises comme des agents donnant du sens aux corps\, que ceux-ci soient physiques\, … @plus_info https://calenda-formation.labocleo.org/285582
LOCATION:Geneva
END:VEVENT
END:VCALENDAR
