BEGIN:VCALENDAR
VERSION:2.0
PRODID:-//https://calenda-formation.labocleo.org
X-WR-CALNAME:Calenda
X-WR-TIMEZONE:Europe/Paris
CALSCALE:GREGORIAN
X-WR-CALDESC:The calendar for arts, humanities and social sciences
METHOD:PUBLISH
BEGIN:VEVENT
DTSTART;VALUE=DATE:20140603
DTEND;VALUE=DATE:20140604
UID:285632-20140603@calenda.revues.org
SUMMARY:Livre électronique et open access
URL:https://calenda-formation.labocleo.org/285632
DESCRIPTION:Cette journée d'étude aura pour objet de présenter l'écosystème du livre électronique en open access : politiques en faveur de l'open access en France et au Royaume-Uni\, modèles économiques\, environnement juridique\, métadonnées ouvertes\, publication … @plus_info https://calenda-formation.labocleo.org/285632
LOCATION:Paris
END:VEVENT
END:VCALENDAR
