BEGIN:VCALENDAR
VERSION:2.0
PRODID:-//https://calenda-formation.labocleo.org
X-WR-CALNAME:Calenda
X-WR-TIMEZONE:Europe/Paris
CALSCALE:GREGORIAN
X-WR-CALDESC:Le calendrier des lettres et sciences humaines et sociales
METHOD:PUBLISH
BEGIN:VEVENT
DTSTART;VALUE=DATE:20140620
DTEND;VALUE=DATE:20140621
UID:285709-20140620@calenda.revues.org
SUMMARY:Autonomie et apprentissage des langues avec le numérique
URL:https://calenda-formation.labocleo.org/285709
DESCRIPTION:L’objectif de cette journée inter-équipes de recherches STL (UMR 8163) et Théodile-CIREL\, en nous réunissant autour du groupe ATENA-L est d’abord de réunir des doctorants qui travaillent dans des champs proches où les TIC sont présentes ou qui sont i… @plus_info https://calenda-formation.labocleo.org/285709
LOCATION:Villeneuve-d'Ascq
END:VEVENT
END:VCALENDAR
