BEGIN:VCALENDAR
VERSION:2.0
PRODID:-//https://calenda-formation.labocleo.org
X-WR-CALNAME:Calenda
X-WR-TIMEZONE:Europe/Paris
CALSCALE:GREGORIAN
X-WR-CALDESC:The calendar for arts, humanities and social sciences
METHOD:PUBLISH
BEGIN:VEVENT
DTSTART;VALUE=DATE:20140801
DTEND;VALUE=DATE:20140802
UID:285927-20140801@calenda.revues.org
SUMMARY:Pedagogical innovations and the use of video
URL:https://calenda-formation.labocleo.org/285927
DESCRIPTION:Les technologies du numérique jouent un rôle central dans les processus de diffusion\, de médiation et de mise en circulation des savoirs\, que ce soit dans la classe ou pour l’enseignement en ligne. Dans ce contexte\, la vidéo tient une place particuli… @plus_info https://calenda-formation.labocleo.org/285927
LOCATION:
END:VEVENT
END:VCALENDAR
