BEGIN:VCALENDAR
VERSION:2.0
PRODID:-//https://calenda-formation.labocleo.org
X-WR-CALNAME:Calenda
X-WR-TIMEZONE:Europe/Paris
CALSCALE:GREGORIAN
X-WR-CALDESC:The calendar for arts, humanities and social sciences
METHOD:PUBLISH
BEGIN:VEVENT
DTSTART;VALUE=DATE:20140526
DTEND;VALUE=DATE:20140527
UID:286275-20140526@calenda.revues.org
SUMMARY:DHnord2014
URL:https://calenda-formation.labocleo.org/286275
DESCRIPTION:La MESHS et l’université Lille 3\, au travers du Learning Center archéologie / égyptologie/ shs\, ont souhaité s’associer pour organiser\, pour la première fois en région Nord-Pas-de-Calais\, une manifestation scientifique internationale dans la perspect… @plus_info https://calenda-formation.labocleo.org/286275
LOCATION:Lille
END:VEVENT
BEGIN:VEVENT
DTSTART;VALUE=DATE:20140527
DTEND;VALUE=DATE:20140528
UID:286275-20140527@calenda.revues.org
SUMMARY:DHnord2014
URL:https://calenda-formation.labocleo.org/286275
DESCRIPTION:La MESHS et l’université Lille 3\, au travers du Learning Center archéologie / égyptologie/ shs\, ont souhaité s’associer pour organiser\, pour la première fois en région Nord-Pas-de-Calais\, une manifestation scientifique internationale dans la perspect… @plus_info https://calenda-formation.labocleo.org/286275
LOCATION:Lille
END:VEVENT
BEGIN:VEVENT
DTSTART;VALUE=DATE:20140528
DTEND;VALUE=DATE:20140529
UID:286275-20140528@calenda.revues.org
SUMMARY:DHnord2014
URL:https://calenda-formation.labocleo.org/286275
DESCRIPTION:La MESHS et l’université Lille 3\, au travers du Learning Center archéologie / égyptologie/ shs\, ont souhaité s’associer pour organiser\, pour la première fois en région Nord-Pas-de-Calais\, une manifestation scientifique internationale dans la perspect… @plus_info https://calenda-formation.labocleo.org/286275
LOCATION:Lille
END:VEVENT
END:VCALENDAR
