BEGIN:VCALENDAR
VERSION:2.0
PRODID:-//https://calenda-formation.labocleo.org
X-WR-CALNAME:Calenda
X-WR-TIMEZONE:Europe/Paris
CALSCALE:GREGORIAN
X-WR-CALDESC:O calendário de letras e de ciências sociais e humanas
METHOD:PUBLISH
BEGIN:VEVENT
DTSTART;VALUE=DATE:20140515
DTEND;VALUE=DATE:20140516
UID:286448-20140515@calenda.revues.org
SUMMARY:L'inspiration au prisme des vies de poètes
URL:https://calenda-formation.labocleo.org/286448
DESCRIPTION:À des époques et dans des civilisations différentes\, les poètes se disent « inspirés » au moment de la création. Mais que signifie être « inspiré »\, par exemple\, pour un aède de la Grèce Antique\, un poète d’Afrique de l’ouest\, un troubadour du Moyen … @plus_info https://calenda-formation.labocleo.org/286448
LOCATION:Paris
END:VEVENT
END:VCALENDAR
