BEGIN:VCALENDAR
VERSION:2.0
PRODID:-//https://calenda-formation.labocleo.org
X-WR-CALNAME:Calenda
X-WR-TIMEZONE:Europe/Paris
CALSCALE:GREGORIAN
X-WR-CALDESC:The calendar for arts, humanities and social sciences
METHOD:PUBLISH
BEGIN:VEVENT
DTSTART;VALUE=DATE:20140615
DTEND;VALUE=DATE:20140616
UID:286600-20140615@calenda.revues.org
SUMMARY:Regards croisés sur la littéracie en Océanie
URL:https://calenda-formation.labocleo.org/286600
DESCRIPTION:Ce 25ème colloque CORAIL souhaite contribuer à faire découvrir et explorer le terme de « littéracie »\, voire en cerner les limites ou les paradoxes. Il s'agit aussi de mettre en avant les recherches et travaux récents qui visent à mieux connaître les… @plus_info https://calenda-formation.labocleo.org/286600
LOCATION:Noumea
END:VEVENT
END:VCALENDAR
