BEGIN:VCALENDAR
VERSION:2.0
PRODID:-//https://calenda-formation.labocleo.org
X-WR-CALNAME:Calenda
X-WR-TIMEZONE:Europe/Paris
CALSCALE:GREGORIAN
X-WR-CALDESC:Le calendrier des lettres et sciences humaines et sociales
METHOD:PUBLISH
BEGIN:VEVENT
DTSTART;VALUE=DATE:20140602
DTEND;VALUE=DATE:20140603
UID:286670-20140602@calenda.revues.org
SUMMARY:La cour et la ville
URL:https://calenda-formation.labocleo.org/286670
DESCRIPTION:Ce colloque s’inscrit dans le programme de recherche portant sur « Les cours en péninsule Ibérique à la fin du Moyen Âge ». Une analyse des cours au bas Moyen Âge est envisagée ici d’un point de vue relationnel en centrant le propos sur l’une des scè… Weitere Informationen https://calenda-formation.labocleo.org/286670
LOCATION:Valladolid
END:VEVENT
BEGIN:VEVENT
DTSTART;VALUE=DATE:20140603
DTEND;VALUE=DATE:20140604
UID:286670-20140603@calenda.revues.org
SUMMARY:La cour et la ville
URL:https://calenda-formation.labocleo.org/286670
DESCRIPTION:Ce colloque s’inscrit dans le programme de recherche portant sur « Les cours en péninsule Ibérique à la fin du Moyen Âge ». Une analyse des cours au bas Moyen Âge est envisagée ici d’un point de vue relationnel en centrant le propos sur l’une des scè… Weitere Informationen https://calenda-formation.labocleo.org/286670
LOCATION:Valladolid
END:VEVENT
END:VCALENDAR
