BEGIN:VCALENDAR
VERSION:2.0
PRODID:-//https://calenda-formation.labocleo.org
X-WR-CALNAME:Calenda
X-WR-TIMEZONE:Europe/Paris
CALSCALE:GREGORIAN
X-WR-CALDESC:Le calendrier des lettres et sciences humaines et sociales
METHOD:PUBLISH
BEGIN:VEVENT
DTSTART;VALUE=DATE:20140625
DTEND;VALUE=DATE:20140626
UID:287179-20140625@calenda.revues.org
SUMMARY:Patrimoine et horizons
URL:https://calenda-formation.labocleo.org/287179
DESCRIPTION:Le patrimoine\, sous ses diverses formes\, est souvent fragile\, vulnérable. Il nécessite une multitude d’intervenants mais également plusieurs techniques pour être préservé. La connaissance\, la compréhension et finalement la conservation de cet héritag… Weitere Informationen https://calenda-formation.labocleo.org/287179
LOCATION:Gammarth
END:VEVENT
END:VCALENDAR
