BEGIN:VCALENDAR
VERSION:2.0
PRODID:-//https://calenda-formation.labocleo.org
X-WR-CALNAME:Calenda
X-WR-TIMEZONE:Europe/Paris
CALSCALE:GREGORIAN
X-WR-CALDESC:Le calendrier des lettres et sciences humaines et sociales
METHOD:PUBLISH
BEGIN:VEVENT
DTSTART;VALUE=DATE:20140901
DTEND;VALUE=DATE:20140902
UID:287461-20140901@calenda.revues.org
SUMMARY:Être femme en Afrique subsaharienne : la fin des « cadets sociaux » ?
URL:https://calenda-formation.labocleo.org/287461
DESCRIPTION:Dans le contexte d’une approche de relations de pouvoirs construits\, plusieurs écrits ont désigné les « cadets sociaux » comme l’ensemble des catégories sociales dominées\, principalement les jeunes et les femmes\, par opposition à leurs « aînés sociau… Weitere Informationen https://calenda-formation.labocleo.org/287461
LOCATION:
END:VEVENT
END:VCALENDAR
