BEGIN:VCALENDAR
VERSION:2.0
PRODID:-//https://calenda-formation.labocleo.org
X-WR-CALNAME:Calenda
X-WR-TIMEZONE:Europe/Paris
CALSCALE:GREGORIAN
X-WR-CALDESC:The calendar for arts, humanities and social sciences
METHOD:PUBLISH
BEGIN:VEVENT
DTSTART;VALUE=DATE:20140804
DTEND;VALUE=DATE:20140805
UID:287501-20140804@calenda.revues.org
SUMMARY:Mikhail Bakunin e a Associação Internacional dos Trabalhadores
URL:https://calenda-formation.labocleo.org/287501
DESCRIPTION:C'est l'annonce et l'appel à communication pour le colloque international sur Michel Bakounine et l'Association Internationale des Travailleurs\, organisé du 10 au 13 novembre 2014 à l'Université de São Paulo (FFLCH-USP) et qui implique à la fois hist… @plus_info https://calenda-formation.labocleo.org/287501
LOCATION:Sao Paolo
END:VEVENT
END:VCALENDAR
