BEGIN:VCALENDAR
VERSION:2.0
PRODID:-//https://calenda-formation.labocleo.org
X-WR-CALNAME:Calenda
X-WR-TIMEZONE:Europe/Paris
CALSCALE:GREGORIAN
X-WR-CALDESC:The calendar for arts, humanities and social sciences
METHOD:PUBLISH
BEGIN:VEVENT
DTSTART;VALUE=DATE:20140731
DTEND;VALUE=DATE:20140801
UID:287982-20140731@calenda.revues.org
SUMMARY:Music on stage and audiences in France\, 18th-21st centuries
URL:https://calenda-formation.labocleo.org/287982
DESCRIPTION:L’ambition de ce colloque interdisciplinaire est de parvenir à faire émerger les caractères propres des publics des scènes musicales en France sur le temps long. En se limitant aux scènes musicales\, entendues comme l’ensemble des spectacles mêlant te… @plus_info https://calenda-formation.labocleo.org/287982
LOCATION:Paris
END:VEVENT
END:VCALENDAR
