BEGIN:VCALENDAR
VERSION:2.0
PRODID:-//https://calenda-formation.labocleo.org
X-WR-CALNAME:Calenda
X-WR-TIMEZONE:Europe/Paris
CALSCALE:GREGORIAN
X-WR-CALDESC:O calendário de letras e de ciências sociais e humanas
METHOD:PUBLISH
BEGIN:VEVENT
DTSTART;VALUE=DATE:20140606
DTEND;VALUE=DATE:20140607
UID:288016-20140606@calenda.revues.org
SUMMARY:Communautés religieuses et changement social
URL:https://calenda-formation.labocleo.org/288016
DESCRIPTION:Faisant suite à plusieurs colloques qui ont réinterrogé le concept de communauté\, cette journée d'études organisée par le CEIFR-EHESS et le groupe IRENE se propose d'étudier les processus de communalisations religieuses et d'explorer la dimension uto… @plus_info https://calenda-formation.labocleo.org/288016
LOCATION:Paris
END:VEVENT
END:VCALENDAR
