BEGIN:VCALENDAR
VERSION:2.0
PRODID:-//https://calenda-formation.labocleo.org
X-WR-CALNAME:Calenda
X-WR-TIMEZONE:Europe/Paris
CALSCALE:GREGORIAN
X-WR-CALDESC:Le calendrier des lettres et sciences humaines et sociales
METHOD:PUBLISH
BEGIN:VEVENT
DTSTART;VALUE=DATE:20140630
DTEND;VALUE=DATE:20140701
UID:288303-20140630@calenda.revues.org
SUMMARY:Premier congrès du groupement d'intérêt scientifique « Moyen-Orient et mondes musulmans »
URL:https://calenda-formation.labocleo.org/288303
DESCRIPTION:Le groupement d'intérêt scientifique « Moyen-Orient et mondes musulmans »\, soutenu par l'INSHS\, lance un appel à propositions pour son premier congrès\, qui se tiendra les mardi 7\, mercredi 8 et jeudi 9 juillet 2015 dans les locaux de l’Inalco à Paris… @plus_info https://calenda-formation.labocleo.org/288303
LOCATION:Paris
END:VEVENT
END:VCALENDAR
