BEGIN:VCALENDAR
VERSION:2.0
PRODID:-//https://calenda-formation.labocleo.org
X-WR-CALNAME:Calenda
X-WR-TIMEZONE:Europe/Paris
CALSCALE:GREGORIAN
X-WR-CALDESC:The calendar for arts, humanities and social sciences
METHOD:PUBLISH
BEGIN:VEVENT
DTSTART;VALUE=DATE:20140602
DTEND;VALUE=DATE:20140603
UID:288341-20140602@calenda.revues.org
SUMMARY:Sur les seuils de l’Antiquité... 
URL:https://calenda-formation.labocleo.org/288341
DESCRIPTION:Parmi les vestiges\, souvent très arasés\, des édifices antiques publics et privés que le temps a conservés\, les pierres de seuil ont depuis longtemps attiré l’attention des modernes. Ces blocs sont en effet facilement reconnaissables à leurs mortaises… @plus_info https://calenda-formation.labocleo.org/288341
LOCATION:Paris
END:VEVENT
END:VCALENDAR
