BEGIN:VCALENDAR
VERSION:2.0
PRODID:-//https://calenda-formation.labocleo.org
X-WR-CALNAME:Calenda
X-WR-TIMEZONE:Europe/Paris
CALSCALE:GREGORIAN
X-WR-CALDESC:The calendar for arts, humanities and social sciences
METHOD:PUBLISH
BEGIN:VEVENT
DTSTART;VALUE=DATE:20140930
DTEND;VALUE=DATE:20141001
UID:288408-20140930@calenda.revues.org
SUMMARY:Récits de vies extraordinaires : saints\, stars\, héros
URL:https://calenda-formation.labocleo.org/288408
DESCRIPTION:Récits de vies extraordinaires\, récits hagiographiques fabriquent saintes et saints\, héroïnes et héros ; souvent post-mortem\, parfois de leur vivant\, qu’il s’agisse de personnages politiques ou religieux : héros nationaux\, figures « saintes » musulma… @plus_info https://calenda-formation.labocleo.org/288408
LOCATION:
END:VEVENT
END:VCALENDAR
