BEGIN:VCALENDAR
VERSION:2.0
PRODID:-//https://calenda-formation.labocleo.org
X-WR-CALNAME:Calenda
X-WR-TIMEZONE:Europe/Paris
CALSCALE:GREGORIAN
X-WR-CALDESC:Le calendrier des lettres et sciences humaines et sociales
METHOD:PUBLISH
BEGIN:VEVENT
DTSTART;VALUE=DATE:20140612
DTEND;VALUE=DATE:20140613
UID:288590-20140612@calenda.revues.org
SUMMARY:La première guerre et la langue
URL:https://calenda-formation.labocleo.org/288590
DESCRIPTION: Dans le panorama des manifestations prévues autour de la Grande Guerre en 2014\, une place est légitime pour un colloque réunissant historiens\, linguistes et spécialistes de la littérature autour du devenir de la langue française\, des parlers et des … Más informaciones https://calenda-formation.labocleo.org/288590
LOCATION:París
END:VEVENT
BEGIN:VEVENT
DTSTART;VALUE=DATE:20140613
DTEND;VALUE=DATE:20140614
UID:288590-20140613@calenda.revues.org
SUMMARY:La première guerre et la langue
URL:https://calenda-formation.labocleo.org/288590
DESCRIPTION: Dans le panorama des manifestations prévues autour de la Grande Guerre en 2014\, une place est légitime pour un colloque réunissant historiens\, linguistes et spécialistes de la littérature autour du devenir de la langue française\, des parlers et des … Más informaciones https://calenda-formation.labocleo.org/288590
LOCATION:París
END:VEVENT
END:VCALENDAR
