BEGIN:VCALENDAR
VERSION:2.0
PRODID:-//https://calenda-formation.labocleo.org
X-WR-CALNAME:Calenda
X-WR-TIMEZONE:Europe/Paris
CALSCALE:GREGORIAN
X-WR-CALDESC:The calendar for arts, humanities and social sciences
METHOD:PUBLISH
BEGIN:VEVENT
DTSTART;VALUE=DATE:20140605
DTEND;VALUE=DATE:20140606
UID:288667-20140605@calenda.revues.org
SUMMARY:La production des subjectivités dans le domaine du cancer
URL:https://calenda-formation.labocleo.org/288667
DESCRIPTION:Le colloque sur La production des subjectivités dans le domaine du cancer est porté par le groupe de travail « Cancers et SHS » du réseau des jeunes chercheurs Santé & société\, avec le soutien du Campus Condorcet\, de l'Institut national du cancer et … @plus_info https://calenda-formation.labocleo.org/288667
LOCATION:Saint-Denis
END:VEVENT
BEGIN:VEVENT
DTSTART;VALUE=DATE:20140606
DTEND;VALUE=DATE:20140607
UID:288667-20140606@calenda.revues.org
SUMMARY:La production des subjectivités dans le domaine du cancer
URL:https://calenda-formation.labocleo.org/288667
DESCRIPTION:Le colloque sur La production des subjectivités dans le domaine du cancer est porté par le groupe de travail « Cancers et SHS » du réseau des jeunes chercheurs Santé & société\, avec le soutien du Campus Condorcet\, de l'Institut national du cancer et … @plus_info https://calenda-formation.labocleo.org/288667
LOCATION:Saint-Denis
END:VEVENT
END:VCALENDAR
