BEGIN:VCALENDAR
VERSION:2.0
PRODID:-//https://calenda-formation.labocleo.org
X-WR-CALNAME:Calenda
X-WR-TIMEZONE:Europe/Paris
CALSCALE:GREGORIAN
X-WR-CALDESC:Le calendrier des lettres et sciences humaines et sociales
METHOD:PUBLISH
BEGIN:VEVENT
DTSTART;VALUE=DATE:20140731
DTEND;VALUE=DATE:20140801
UID:288875-20140731@calenda.revues.org
SUMMARY:Commerce et commerçants à travers l'histoire
URL:https://calenda-formation.labocleo.org/288875
DESCRIPTION:Lié aux sociétés humaines à travers les âges\, le commerce a pris des formes multiples ; il est associé à l’homme dés l’apparition du troc entre les tribus et les groupes humains au cours de l'ère primitive. C’est l’un des piliers des différentes enti… Más informaciones https://calenda-formation.labocleo.org/288875
LOCATION:Béja
END:VEVENT
END:VCALENDAR
