BEGIN:VCALENDAR
VERSION:2.0
PRODID:-//https://calenda-formation.labocleo.org
X-WR-CALNAME:Calenda
X-WR-TIMEZONE:Europe/Paris
CALSCALE:GREGORIAN
X-WR-CALDESC:Le calendrier des lettres et sciences humaines et sociales
METHOD:PUBLISH
BEGIN:VEVENT
DTSTART;VALUE=DATE:20140612
DTEND;VALUE=DATE:20140613
UID:289184-20140612@calenda.revues.org
SUMMARY:Représenter l'exil : la mémoire\, la trace
URL:https://calenda-formation.labocleo.org/289184
DESCRIPTION:Si la nostalgie vient souvent aider à figurer l’exil\, il n’est pas certain qu’elle en fournisse le seul mode de représentation. La subjectivité exilique peut aussi choisir d’obscurcir\, voire d’effacer les traces. Le travail mémoriel sert par conséque… @plus_info https://calenda-formation.labocleo.org/289184
LOCATION:Paris
END:VEVENT
END:VCALENDAR
