BEGIN:VCALENDAR
VERSION:2.0
PRODID:-//https://calenda-formation.labocleo.org
X-WR-CALNAME:Calenda
X-WR-TIMEZONE:Europe/Paris
CALSCALE:GREGORIAN
X-WR-CALDESC:The calendar for arts, humanities and social sciences
METHOD:PUBLISH
BEGIN:VEVENT
DTSTART;VALUE=DATE:20140605
DTEND;VALUE=DATE:20140606
UID:289531-20140605@calenda.revues.org
SUMMARY:Filmer la peau
URL:https://calenda-formation.labocleo.org/289531
DESCRIPTION:La peau est un objet paradoxal du cinéma : elle est à la fois ce qu’on ne peut éviter de ﬁlmer dès qu’on prend l’humain pour sujet (il faut faire avec) et ce qui tend à disparaître sous l’attention accordée aux différentes parties du corps dont elle … @plus_info https://calenda-formation.labocleo.org/289531
LOCATION:Paris
END:VEVENT
BEGIN:VEVENT
DTSTART;VALUE=DATE:20140606
DTEND;VALUE=DATE:20140607
UID:289531-20140606@calenda.revues.org
SUMMARY:Filmer la peau
URL:https://calenda-formation.labocleo.org/289531
DESCRIPTION:La peau est un objet paradoxal du cinéma : elle est à la fois ce qu’on ne peut éviter de ﬁlmer dès qu’on prend l’humain pour sujet (il faut faire avec) et ce qui tend à disparaître sous l’attention accordée aux différentes parties du corps dont elle … @plus_info https://calenda-formation.labocleo.org/289531
LOCATION:Paris
END:VEVENT
END:VCALENDAR
