BEGIN:VCALENDAR
VERSION:2.0
PRODID:-//https://calenda-formation.labocleo.org
X-WR-CALNAME:Calenda
X-WR-TIMEZONE:Europe/Paris
CALSCALE:GREGORIAN
X-WR-CALDESC:Le calendrier des lettres et sciences humaines et sociales
METHOD:PUBLISH
BEGIN:VEVENT
DTSTART;VALUE=DATE:20140602
DTEND;VALUE=DATE:20140603
UID:289827-20140602@calenda.revues.org
SUMMARY:Construire et déconstruire les normes culturelles des juristes
URL:https://calenda-formation.labocleo.org/289827
DESCRIPTION:Dans le cadre de son sous-projet Connaître la Loi sous l’Ancien Régime (CLAR)\, Norma\, programme « Paris Nouveaux Mondes » d'heSam université\, vous propose une journée d'études sur le thème « Construire et déconstruire les normes culturelles des juris… Más informaciones https://calenda-formation.labocleo.org/289827
LOCATION:Pessac
END:VEVENT
END:VCALENDAR
