BEGIN:VCALENDAR
VERSION:2.0
PRODID:-//https://calenda-formation.labocleo.org
X-WR-CALNAME:Calenda
X-WR-TIMEZONE:Europe/Paris
CALSCALE:GREGORIAN
X-WR-CALDESC:Le calendrier des lettres et sciences humaines et sociales
METHOD:PUBLISH
BEGIN:VEVENT
DTSTART;VALUE=DATE:20140610
DTEND;VALUE=DATE:20140611
UID:290360-20140610@calenda.revues.org
SUMMARY:Patrimoine et humanités numériques
URL:https://calenda-formation.labocleo.org/290360
DESCRIPTION:Ce colloque interdisciplinaire et international a pour objectif de rapprocher et confronter deux notions actuellement très en vogue\, celle de patrimoine\, et celle d’humanités numériques. Le patrimoine\, en tant que biens partagés par une communauté et… Weitere Informationen https://calenda-formation.labocleo.org/290360
LOCATION:Grenoble
END:VEVENT
BEGIN:VEVENT
DTSTART;VALUE=DATE:20140611
DTEND;VALUE=DATE:20140612
UID:290360-20140611@calenda.revues.org
SUMMARY:Patrimoine et humanités numériques
URL:https://calenda-formation.labocleo.org/290360
DESCRIPTION:Ce colloque interdisciplinaire et international a pour objectif de rapprocher et confronter deux notions actuellement très en vogue\, celle de patrimoine\, et celle d’humanités numériques. Le patrimoine\, en tant que biens partagés par une communauté et… Weitere Informationen https://calenda-formation.labocleo.org/290360
LOCATION:Grenoble
END:VEVENT
BEGIN:VEVENT
DTSTART;VALUE=DATE:20140612
DTEND;VALUE=DATE:20140613
UID:290360-20140612@calenda.revues.org
SUMMARY:Patrimoine et humanités numériques
URL:https://calenda-formation.labocleo.org/290360
DESCRIPTION:Ce colloque interdisciplinaire et international a pour objectif de rapprocher et confronter deux notions actuellement très en vogue\, celle de patrimoine\, et celle d’humanités numériques. Le patrimoine\, en tant que biens partagés par une communauté et… Weitere Informationen https://calenda-formation.labocleo.org/290360
LOCATION:Grenoble
END:VEVENT
END:VCALENDAR
