BEGIN:VCALENDAR
VERSION:2.0
PRODID:-//https://calenda-formation.labocleo.org
X-WR-CALNAME:Calenda
X-WR-TIMEZONE:Europe/Paris
CALSCALE:GREGORIAN
X-WR-CALDESC:Le calendrier des lettres et sciences humaines et sociales
METHOD:PUBLISH
BEGIN:VEVENT
DTSTART;VALUE=DATE:20140530
DTEND;VALUE=DATE:20140531
UID:290367-20140530@calenda.revues.org
SUMMARY:Doctoral candidates (PhD students) in History of Education
URL:https://calenda-formation.labocleo.org/290367
DESCRIPTION:L'université du Luxembourg offre deux postes pour doctorants en histoire de l'éducation. Les candidats choisis participent au projet FAMOSO qui recherche les transformations de la société luxembourgeoise engendrées par l'industrie sidérurgique pendan… Weitere Informationen https://calenda-formation.labocleo.org/290367
LOCATION:Walferdingen
END:VEVENT
END:VCALENDAR
