BEGIN:VCALENDAR
VERSION:2.0
PRODID:-//https://calenda-formation.labocleo.org
X-WR-CALNAME:Calenda
X-WR-TIMEZONE:Europe/Paris
CALSCALE:GREGORIAN
X-WR-CALDESC:Le calendrier des lettres et sciences humaines et sociales
METHOD:PUBLISH
BEGIN:VEVENT
DTSTART;VALUE=DATE:20140623
DTEND;VALUE=DATE:20140624
UID:291149-20140623@calenda.revues.org
SUMMARY:Vivre\, consommer et agir dans une Palestine glocale
URL:https://calenda-formation.labocleo.org/291149
DESCRIPTION:La réalité palestinienne\, marquée par le conflit\, a le plus souvent été analysée au seul prisme de sa spécificité politique ou culturelle. Or\, de nouvelles manières de vivre\, de consommer et d’agir inscrites dans un registre global ont vu le jour ces… @plus_info https://calenda-formation.labocleo.org/291149
LOCATION:Naplouse
END:VEVENT
END:VCALENDAR
