BEGIN:VCALENDAR
VERSION:2.0
PRODID:-//https://calenda-formation.labocleo.org
X-WR-CALNAME:Calenda
X-WR-TIMEZONE:Europe/Paris
CALSCALE:GREGORIAN
X-WR-CALDESC:The calendar for arts, humanities and social sciences
METHOD:PUBLISH
BEGIN:VEVENT
DTSTART;VALUE=DATE:20140630
DTEND;VALUE=DATE:20140701
UID:291451-20140630@calenda.revues.org
SUMMARY:Speaking to Dominate ? Words\, Discourse\, and Power Plays
URL:https://calenda-formation.labocleo.org/291451
DESCRIPTION:Analyzing speech practices in context provides valuable insights into social interactions\, in particular power or hierarchical relations. The power of words is well known\, especially in media and politics. But these words only become meaningful when … @plus_info https://calenda-formation.labocleo.org/291451
LOCATION:
END:VEVENT
END:VCALENDAR
