BEGIN:VCALENDAR
VERSION:2.0
PRODID:-//https://calenda-formation.labocleo.org
X-WR-CALNAME:Calenda
X-WR-TIMEZONE:Europe/Paris
CALSCALE:GREGORIAN
X-WR-CALDESC:The calendar for arts, humanities and social sciences
METHOD:PUBLISH
BEGIN:VEVENT
DTSTART;VALUE=DATE:20140730
DTEND;VALUE=DATE:20140731
UID:291567-20140730@calenda.revues.org
SUMMARY:War
URL:https://calenda-formation.labocleo.org/291567
DESCRIPTION:Dans le cadre du programme de préparation aux concours d’entrées dans les grandes écoles\, le lycée Henri Bergson d’Angers\, organise une journée d’études universitaires sur les œuvres au programme de lettres-philosophie. … @plus_info https://calenda-formation.labocleo.org/291567
LOCATION:Angers
END:VEVENT
END:VCALENDAR
