BEGIN:VCALENDAR
VERSION:2.0
PRODID:-//https://calenda-formation.labocleo.org
X-WR-CALNAME:Calenda
X-WR-TIMEZONE:Europe/Paris
CALSCALE:GREGORIAN
X-WR-CALDESC:The calendar for arts, humanities and social sciences
METHOD:PUBLISH
BEGIN:VEVENT
DTSTART;VALUE=DATE:20140627
DTEND;VALUE=DATE:20140628
UID:291630-20140627@calenda.revues.org
SUMMARY:Frontière(s) au cinéma
URL:https://calenda-formation.labocleo.org/291630
DESCRIPTION:La septième édition des rencontres « Droit et cinéma »\, organisées depuis 2008 pendant le Festival international du film de La Rochelle\, sera consacrée au thème des frontières dans le cinéma. Nous tenterons par une approche interdisciplinaire (juridi… @plus_info https://calenda-formation.labocleo.org/291630
LOCATION:La Rochelle
END:VEVENT
BEGIN:VEVENT
DTSTART;VALUE=DATE:20140628
DTEND;VALUE=DATE:20140629
UID:291630-20140628@calenda.revues.org
SUMMARY:Frontière(s) au cinéma
URL:https://calenda-formation.labocleo.org/291630
DESCRIPTION:La septième édition des rencontres « Droit et cinéma »\, organisées depuis 2008 pendant le Festival international du film de La Rochelle\, sera consacrée au thème des frontières dans le cinéma. Nous tenterons par une approche interdisciplinaire (juridi… @plus_info https://calenda-formation.labocleo.org/291630
LOCATION:La Rochelle
END:VEVENT
END:VCALENDAR
