BEGIN:VCALENDAR
VERSION:2.0
PRODID:-//https://calenda-formation.labocleo.org
X-WR-CALNAME:Calenda
X-WR-TIMEZONE:Europe/Paris
CALSCALE:GREGORIAN
X-WR-CALDESC:The calendar for arts, humanities and social sciences
METHOD:PUBLISH
BEGIN:VEVENT
DTSTART;VALUE=DATE:20140908
DTEND;VALUE=DATE:20140909
UID:291688-20140908@calenda.revues.org
SUMMARY:2014 doctoral grants at the Fondation Médéric Alzheimer
URL:https://calenda-formation.labocleo.org/291688
DESCRIPTION:La Fondation Médéric Alzheimer attribuera en 2014 quatre bourses doctorales d’un montant de 10 000 € chacune. Ces bourses\, renouvelables une fois\, sont ouvertes aux doctorants en sciences humaines et sociales (psychologie\, sociologie\, économie\, droit… @plus_info https://calenda-formation.labocleo.org/291688
LOCATION:Paris
END:VEVENT
END:VCALENDAR
