BEGIN:VCALENDAR
VERSION:2.0
PRODID:-//https://calenda-formation.labocleo.org
X-WR-CALNAME:Calenda
X-WR-TIMEZONE:Europe/Paris
CALSCALE:GREGORIAN
X-WR-CALDESC:Le calendrier des lettres et sciences humaines et sociales
METHOD:PUBLISH
BEGIN:VEVENT
DTSTART;VALUE=DATE:20140701
DTEND;VALUE=DATE:20140702
UID:291701-20140701@calenda.revues.org
SUMMARY:La clinique à l'épreuve de l'interprétariat
URL:https://calenda-formation.labocleo.org/291701
DESCRIPTION:Alors qu’une étude portée par le réseau Samdarra est en cours pour comprendre les enjeux de l’entretien en santé mentale avec interprète\, la perspective de cette journée d'étude sera de discuter des difficultés des professionnels et aussi d’échanger … Weitere Informationen https://calenda-formation.labocleo.org/291701
LOCATION:Chambéry
END:VEVENT
END:VCALENDAR
