BEGIN:VCALENDAR
VERSION:2.0
PRODID:-//https://calenda-formation.labocleo.org
X-WR-CALNAME:Calenda
X-WR-TIMEZONE:Europe/Paris
CALSCALE:GREGORIAN
X-WR-CALDESC:O calendário de letras e de ciências sociais e humanas
METHOD:PUBLISH
BEGIN:VEVENT
DTSTART;VALUE=DATE:20140630
DTEND;VALUE=DATE:20140701
UID:291813-20140630@calenda.revues.org
SUMMARY:Redes mercantis portuguesas e portos portugueses na Idade Moderna
URL:https://calenda-formation.labocleo.org/291813
DESCRIPTION:O workshop internacional reúne investigadores que se ocupam do estudo das relações comerciais ibéricas e da sua relação com a Europa e o Mundo. … @plus_info https://calenda-formation.labocleo.org/291813
LOCATION:Lisbon
END:VEVENT
END:VCALENDAR
